Workbook

Sheet formulaire
C2: SIMULATEUR AIDE SOCIALE A L'HÉBERGEMENT EN ÉTABLISSEMENT
E4: 1 | F4: SITUATION DU DEMANDEUR
F5: Age : | G5: Plus de 65 ans | I5: =IF(G5="Moins de 65 ans et non déclaré inapte au travail","VOUS NE POUVEZ PAS BÉNÉFICIER DE L'ASH","")
F6: Juste avant votre entrée en établissement, vous avez résidé pendant plus de trois mois à Paris : | G6: OUI | H6: =IF(G6="NON","La Ville de Paris n'est pas compétente pour vous verser l'ASH, rapprochez-vous du département dans lequel vous avez résidé avant votre admission en établissement.","")
F7: Vous êtes : | G7: Marié(e)
F8: Nombre d'enfants : | G8: 5
E10: 2 | F10: REVENUS DU DEMANDEUR
F11: Ensemble des revenus annuels déclarés du demandeur tels que figurant sur l’avis d’imposition (salaire, retraite principale, complémentaire, capitaux mobiliers…) : | G11: 0 | H11: Pour plus d'informations cliquez ici (1)
F12: Si le demandeur est marié, en concubinage ou pacsé, ensemble des revenus annuels déclarés du conjoint : | G12: 0 | H12: Pour plus d'informations, cliquez ici (2)
B14: 3 | C14: SITUATION DE L'ENFANT N°1 | F14: SITUATION DE L'ENFANT N°2 | I14: SITUATION DE L'ENFANT N°3 | L14: SITUATION DE L'ENFANT N°4 | O14: SITUATION DE L'ENFANT N°5
C15: L'enfant du bénéficiaire est-il marié ? | D15: Non | F15: L'enfant du bénéficiaire est-il marié ? | G15: Non | I15: L'enfant du bénéficiaire est-il marié ? | J15: Oui | L15: L'enfant du bénéficiaire est-il marié ? | M15: Oui | O15: L'enfant du bénéficiaire est-il marié ? | P15: Non
C16: Ensemble des revenus annuels déclarés au niveau du foyer : | D16: 0 | F16: Ensemble des revenus annuels déclarés au niveau du foyer : | G16: 0 | I16: Ensemble des revenus annuels déclarés au niveau du foyer : | J16: 0 | L16: Ensemble des revenus annuels déclarés au niveau du foyer : | M16: 0 | O16: Ensemble des revenus annuels déclarés au niveau du foyer : | P16: 0
C17: Montants annuels des pensions alimentaires reversées sur décision judicaire : | D17: 0 | F17: Montants annuels des pensions alimentaires reversées sur décision judicaire : | G17: 0 | I17: Montants annuels des pensions alimentaires reversées sur décision judicaire : | J17: 0 | L17: Montants annuels des pensions alimentaires reversées sur décision judicaire : | M17: 0 | O17: Montants annuels des pensions alimentaires reversées sur décision judicaire : | P17: 0
C18: Nombre d'enfants à charge : | D18: 0 | F18: Nombre d'enfants à charge : | G18: 0 | I18: Nombre d'enfants à charge : | J18: 0 | L18: Nombre d'enfants à charge : | M18: 0 | O18: Nombre d'enfants à charge : | P18: 0
C19: Revenu disponible pour contribuer aux frais d'hébergement : | D19: =MAX((D16-D17)/12-IF(D15="Oui",850,425)-D18*425,0) -> 0 | F19: Revenus disponibles pour contribuer aux frais d'hébergement : | G19: =MAX((G16-G17)/12-IF(G15="Oui",850,425)-G18*425,0) -> 0 | I19: Revenus disponibles pour contribuer aux frais d'hébergement : | J19: =MAX((J16-J17)/12-IF(J15="Oui",850,425)-J18*425,0) -> 0 | L19: Revenus disponibles pour contribuer aux frais d'hébergement : | M19: =MAX((M16-M17)/12-IF(M15="Oui",850,425)-M18*425,0) -> 0 | O19: Revenus disponibles pour contribuer aux frais d'hébergement : | P19: =MAX((P16-P17)/12-IF(P15="Oui",850,425)-P18*425,0) -> 0
C20: Pourcentage de participation de l'enfant aux frais d'hébergement : | D20: =VLOOKUP(D19,tranches!A2:D65,4) -> 0 | F20: Pourcentage de participation de l'enfant aux frais d'hébergement : | G20: =VLOOKUP(G19,tranches!A2:D65,4) -> 0 | I20: Pourcentage de participation de l'enfant aux frais d'hébergement : | J20: =VLOOKUP(J19,tranches!A2:D65,4) -> 0 | L20: Pourcentage de participation de l'enfant aux frais d'hébergement : | M20: =VLOOKUP(M19,tranches!A2:D65,4) -> 0 | O20: Pourcentage de participation de l'enfant aux frais d'hébergement : | P20: =VLOOKUP(P19,tranches!A2:D65,4) -> 0
C21: Montant de la participation de l'enfant aux frais d'hébergement : | D21: =ROUND(D20*D19,0) -> 0 | F21: Montant de la participation de l'enfant aux frais d'hébergement : | G21: =ROUND(G20*G19,0) -> 0 | I21: Montant de la participation de l'enfant aux frais d'hébergement : | J21: =ROUND(J20*J19,0) -> 0 | L21: Montant de la participation de l'enfant aux frais d'hébergement : | M21: =ROUND(M20*M19,0) -> 0 | O21: Montant de la participation de l'enfant aux frais d'hébergement : | P21: =ROUND(P20*P19,0) -> 0
C22: Pour plus d'informations cliquez ici (3)
E23: 4 | F23: TARIF DE L'ÉTABLISSEMENT D'ACCUEIL
F24: Tarif d'hébergement mensuel de l'établissement d'accueil : | G24: 0 | H24: Pour plus d'informations cliquez ici (4)
F26: RESULTATS
E27: Vous | F27: D'après les informations renseignées, vos ressources propres vous permettre de contribuer aux frais mensuels d'hébergement à hauteur de : | G27: =IF(G11>15612,0.9*(G11/12),IF(G11<1561.2,0,(G11/12)-130.1)) -> 0
E28: Enfants | F28: D'après les informations fournies sur vos obligés alimentaires, ceux-ci peuvent contribuer à hauteur de : | G28: =IF(G8=0,0,IF(G8=1,D21,IF(G8=2,D21+G21,IF(G8=3,D21+G21+J21,IF(G8=4,D21+G21+J21+M21,IF(G8=5,D21+G21+J21+M21+P21,"Pas de simulation avec plus de 5 enfants")))))) -> 0
E29: Conjoint | F29: Montant des ressources mensuelles du conjoint | G29: =IF(G12<5064,0,(G12/12)-425) -> 0
F30: Pourcentage de participation aux frais d'hébergement du conjoint : | G30: =VLOOKUP(G29,tranches!A2:D65,4) -> 0
F31: D'après les informations fournies, votre conjoint peut contribuer à hauteur de : | G31: =IF(G7="Marié(e)",(G30*G29),0) -> 0
F32: Revenu total disponible par mois pour payer les frais d'hébergement : | G32: =G27+G28+G31 -> 0
F35: =IF(G32>=G24,"D'APRES LES INFORMATIONS FOURNIES, VOUS N'ETES PAS ELIGIBLE A L'ASH","D'APRES LES INFORMATIONS FOURNIES, VOUS POURRIEZ BÉNÉFICIER DE L'ASH A HAUTEUR DE :") -> D'APRES LES INFORMATIONS FOURNIES, VOUS N'ETES PAS ELIGIBLE A L'ASH | G35: =IF(G32<G24,G24-G32,"Pas de droit à l'aide sociale") -> Pas de droit à l'aide sociale

Sheet tranches
A1: Tranche de ressources | C1: Participation mensuelle moyenne enfants | D1: Pourcentage des enfants
A2: 0 | B2: 1487.49 | C2: =(A2+B2)/2*D2 -> 0 | D2: 0
A3: 1487.5 | B3: =A3+152.45 -> 1639.95 | C3: =(A3+B3)/2*D3 -> 78.18625 | D3: 0.05
A4: =B3+0.15 -> 1640.1 | B4: =A4+152.45 -> 1792.55 | C4: =(A4+B4)/2*D4 -> 94.397875 | D4: =D3+0.005 -> 0.055
A5: =B4+0.15 -> 1792.7 | B5: =A5+152.45 -> 1945.15 | C5: =(A5+B5)/2*D5 -> 112.1355 | D5: =D4+0.005 -> 0.06
A6: =B5+0.15 -> 1945.3 | B6: =A6+152.45 -> 2097.75 | C6: =(A6+B6)/2*D6 -> 131.39913 | D6: =D5+0.005 -> 0.065
A7: =B6+0.15 -> 2097.9 | B7: =A7+152.45 -> 2250.35 | C7: =(A7+B7)/2*D7 -> 152.18875 | D7: =D6+0.005 -> 0.07
A8: =B7+0.15 -> 2250.5 | B8: =A8+152.45 -> 2402.95 | C8: =(A8+B8)/2*D8 -> 174.50438 | D8: =D7+0.005 -> 0.075
A9: =B8+0.15 -> 2403.1 | B9: =A9+152.45 -> 2555.55 | C9: =(A9+B9)/2*D9 -> 198.346 | D9: =D8+0.005 -> 0.08
A10: =B9+0.15 -> 2555.7 | B10: =A10+152.45 -> 2708.15 | C10: =(A10+B10)/2*D10 -> 223.71363 | D10: =D9+0.005 -> 0.085
A11: =B10+0.15 -> 2708.3 | B11: =A11+152.45 -> 2860.75 | C11: =(A11+B11)/2*D11 -> 250.60725 | D11: =D10+0.005 -> 0.09
A12: =B11+0.15 -> 2860.9 | B12: =A12+152.45 -> 3013.35 | C12: =(A12+B12)/2*D12 -> 279.02688 | D12: =D11+0.005 -> 0.095
A13: =B12+0.15 -> 3013.5 | B13: =A13+152.45 -> 3165.95 | C13: =(A13+B13)/2*D13 -> 308.9725 | D13: =D12+0.005 -> 0.1
A14: =B13+0.15 -> 3166.1 | B14: =A14+152.45 -> 3318.55 | C14: =(A14+B14)/2*D14 -> 340.44413 | D14: =D13+0.005 -> 0.105
A15: =B14+0.15 -> 3318.7 | B15: =A15+152.45 -> 3471.15 | C15: =(A15+B15)/2*D15 -> 373.44175 | D15: =D14+0.005 -> 0.11
... A65: =B64+0.15 -> 10948.7 | B65: =A65+152.45 -> 11101.15 | C65: =(A65+B65)/2*D65 -> 3968.973 | D65: =D64+0.005 -> 0.36

Sheet réponse (1)
A1: (1) La personne bénéficiant de l'ASH doit reverser 90 % de ses revenus (allocation logement comprise) pour financer les frais d’hébergement de l’établissement. Les 10 % restants sont laissés à sa disposition. Cette somme ne peut pas être inférieure à 131,10 € par mois.

Sheet réponse (2)
A1: (2) S’il reste à domicile, le conjoint de la personne âgée qui va entrer en établissement est tenu de participer aux frais d’hébergement au titre de l’obligation alimentaire en fonction de ses ressources.

Sheet réponse (3)
A1: (3) En tenant compte du nombre d’enfants à votre charges ainsi que des pensions déjà reversées, nous calculons des charges forfaitaires qui sont déduites de vos revenus déclarés. Un pourcentage de participation aux frais d’hébergement de la personne âgée est ensuite calculé. Cette participation se fait au titre de l’obligation alimentaire.

Sheet réponse (4)
A1: (4) Le tarif journalier et le montant du tarif « GIR 5-6 » peuvent être communiqués directement par l’établissement d’accueil ou bien trouvés sur le site : https://www.pour-les-personnes-agees.gouv.fr
